BEGIN:VCALENDAR
VERSION:2.0
PRODID:-//eventon.com NONSGML v1.0//EN
CALSCALE:GREGORIAN
METHOD:PUBLISH
BEGIN:VEVENT
UID:69e73c6fe7d68
DTSTAMP:20260421T085927Z
DTSTART:20150819T200000Z
DTEND:20150819T010000Z
LOCATION:Universum Stuttgart Charlottenplatz 1\,  70173 Stuttgart
SUMMARY:Less Than Jake (USA)
DESCRIPTION:Die Ska-Punk-Pioniere LESS THAN JAKE kommen für vier exklusive
  Shows zurück nach Deutschland! Auch nach mehr als 20 Jahren haben LESS TH
 AN JAKE nichts von ihrer Energie verloren und bringen immer noch die gleich
 e\,  druckvolle Fusion aus Ska und Punkrock auf die Bühnen rund um den Glo
 bus. LESS THAN JAKE[..]\nhttps://www.universum-stuttgart.de/events/less-tha
 n-jake-usa/
URL:https://www.universum-stuttgart.de/events/less-than-jake-usa/
END:VEVENT
END:VCALENDAR