BEGIN:VCALENDAR
VERSION:2.0
PRODID:-//eventon.com NONSGML v1.0//EN
CALSCALE:GREGORIAN
METHOD:PUBLISH
BEGIN:VEVENT
UID:69e73dd6d4f26
DTSTAMP:20260421T090526Z
DTSTART:20150523T180000Z
DTEND:20150523T223000Z
LOCATION:Universum Stuttgart Charlottenplatz 1\,  70173 Stuttgart
SUMMARY:Emergenza Band Contest Semifinale
DESCRIPTION:Showlink: http://www.emergenza.net/DE/de-de/gig/739/15338/sa-23
 -mai.aspx 3. und letztes Semifinale in Stuttgart mit den Bands: Tuz &#8211;
  Rock aus Ludwigsburg Pregnant Partywhore &#8211; Alternative Metal aus Ess
 lingen Head &amp; Heart &#8211; Acoustic Crossover aus Tübingen 14 Corners
  &#8211; Alternative Rock aus Stuttgart Velocity &#8211; Melodic Metal aus 
 Villingen Schwenningen FlyTrap Band &#8211; Pop Rock[..]\nhttps://www.unive
 rsum-stuttgart.de/events/emergenza-band-contest-2/
URL:https://www.universum-stuttgart.de/events/emergenza-band-contest-2/
END:VEVENT
END:VCALENDAR