BEGIN:VCALENDAR
VERSION:2.0
PRODID:-//eventon.com NONSGML v1.0//EN
CALSCALE:GREGORIAN
METHOD:PUBLISH
BEGIN:VEVENT
UID:69e73d562bdbf
DTSTAMP:20260421T090318Z
DTSTART:20150424T210000Z
DTEND:20150424T010000Z
LOCATION:Universum Stuttgart Charlottenplatz 1\,  70173 Stuttgart
SUMMARY:NORMAHL & Gäste CD-RELEASE-PARTY !
DESCRIPTION:NORMAHL &#8211; DEUTSCHLANDS DIENSTÄLTESTE PUNKROCKBAND stellt
  ihr brandneues Album das erste Mal in der Öffentlichkeit vor! Seid live d
 abei in Stuttgart im Universum!!! NoRMAhl schlagen zurück: &#8222;Friede d
 en Hütten &#8211; Krieg den Palästen&#8220;\,  ihr erstes Studio-Album na
 ch zehn Jahren\,  erscheint am 10. April 2015. Unfassbare Polizeiwillkür u
 nd lachhafte Indizierungen (von[..]\nhttps://www.universum-stuttgart.de/eve
 nts/normahl-gaeste-cd-release-party/
URL:https://www.universum-stuttgart.de/events/normahl-gaeste-cd-release-party/
END:VEVENT
END:VCALENDAR