BEGIN:VCALENDAR
VERSION:2.0
PRODID:-//eventon.com NONSGML v1.0//EN
CALSCALE:GREGORIAN
METHOD:PUBLISH
BEGIN:VEVENT
UID:69e737ee7ae34
DTSTAMP:20260421T084014Z
DTSTART:20150103T230000Z
DTEND:20150103T010000Z
LOCATION:Universum Stuttgart Charlottenplatz 1\,  70173 Stuttgart
SUMMARY:BACKSTAGE CLUB
DESCRIPTION:BACKSTAGE CLUB &#8211; Die Samstagsparty im Universum. Wir biet
 en euch den Sound zum Abfeiern. ROCK\,  INDIE\,  HIP HOP\,  PUNK &amp; ELEK
 TRONIK\,  sowie METALCORE\,  MODERN METAL &amp; PARTYCORE stehen bei uns au
 f dem Programm. Mit dieser  rasanten Musik-Mischung kommt hier jeder auf s
 eine Kosten und kann es richtig krachen lassen &#8211;[..]\nhttps://www.uni
 versum-stuttgart.de/events/backstage-club/
URL:https://www.universum-stuttgart.de/events/backstage-club/
END:VEVENT
END:VCALENDAR