BEGIN:VCALENDAR
VERSION:2.0
PRODID:-//eventon.com NONSGML v1.0//EN
CALSCALE:GREGORIAN
METHOD:PUBLISH
BEGIN:VEVENT
UID:69e48ea8a5af6
DTSTAMP:20260419T081328Z
DTSTART:20221118T190000Z
DTEND:20221118T235000Z
LOCATION:Universum Stuttgart Charlottenplatz 1\,  70173 Stuttgart
SUMMARY:Dritte Wahl (d) Ausverkauft // keine Abendkasse
DESCRIPTION:Dritte Wahl (d) Ausverkauft // keine Abendkasse\nhttps://www.un
 iversum-stuttgart.de/events/dritte-wahl-d-ausverkauft-keine-abendkasse/
URL:https://www.universum-stuttgart.de/events/dritte-wahl-d-ausverkauft-keine-abendkasse/
END:VEVENT
END:VCALENDAR