BEGIN:VCALENDAR
VERSION:2.0
PRODID:-//eventon.com NONSGML v1.0//EN
CALSCALE:GREGORIAN
METHOD:PUBLISH
BEGIN:VEVENT
UID:69e73eda43079
DTSTAMP:20260421T090946Z
DTSTART:20191031T220100Z
DTEND:20191031T235000Z
LOCATION:Universum Stuttgart Charlottenplatz 1\,  70173 Stuttgart
SUMMARY:90s meets Assischlager Bad Taste vs. Halloween
DESCRIPTION:90s meets Assischlager Bad Taste vs. Halloween &nbsp; Wir feier
 n die erste Bad Taste vs. Halloween Party in Stuttgart. Wie gewohnt darf si
 ch jeder nach Lust und Laune verkleiden\,  ob als gruseliges Monster\,  Gra
 f Dracula\,  pinke Leggins mit einem Tiger-Oberteil\,  oder einfach als Lau
 ch\,  bei uns ist jeder Willkommen. Wir[..]\nhttps://www.universum-stuttgar
 t.de/events/90s-meets-assischlager-bad-taste-vs-halloween-2/
URL:https://www.universum-stuttgart.de/events/90s-meets-assischlager-bad-taste-vs-halloween-2/
END:VEVENT
END:VCALENDAR