BEGIN:VCALENDAR
VERSION:2.0
PRODID:-//eventon.com NONSGML v1.0//EN
CALSCALE:GREGORIAN
METHOD:PUBLISH
BEGIN:VEVENT
UID:69e737d38868f
DTSTAMP:20260421T083947Z
DTSTART:20190302T220100Z
DTEND:20190303T040100Z
LOCATION:Universum Stuttgart Charlottenplatz 1\,  70173 Stuttgart
SUMMARY:90s meets Assischlager *Fasching vs. Bad Taste VVK online möglich!
DESCRIPTION:VVK &nbsp; &nbsp; 90s meets Assischlager Fasching vs Bad Taste 
 im Club Universum! Wir bieten 2 größere Floors\,  eine chill Lounge um N6
 4 Mario Kart zu zocken\,  1500 Knicklichter\,  die üblichen Gießkannen uv
 m&#8230;. Wir feiern &#8211; VOLLE KANONE &#8211; FASCHING Nach der letzten
  feucht fröhlichen Weihnachtsparty im Dezember steht die[..]\nhttps://www.
 universum-stuttgart.de/events/90s-meets-assischlager-fasching-vs-bad-taste/
URL:https://www.universum-stuttgart.de/events/90s-meets-assischlager-fasching-vs-bad-taste/
END:VEVENT
END:VCALENDAR