BEGIN:VCALENDAR
VERSION:2.0
PRODID:-//eventon.com NONSGML v1.0//EN
CALSCALE:GREGORIAN
METHOD:PUBLISH
BEGIN:VEVENT
UID:69e72bea1b80e
DTSTAMP:20260421T074858Z
DTSTART:20180618T200000Z
DTEND:20180618T235000Z
LOCATION:Universum Stuttgart Charlottenplatz 1\,  70173 Stuttgart
SUMMARY:Madball (USA) & Deliver (D)
DESCRIPTION:MADBALL ist eine aus New York stammende und 1988 gegründete Ha
 rdcore-Band\,  die stilbildend für spätere Metalcore-Gruppen war. Madball
  zählt zusammen mit Agnostic Front und Sick of It All zu den gegenwärtig 
 bedeutendsten Vertretern des New York Hardcore. Sänger Freddy Cricien ist 
 der Halbbruder von Hardcore-Legende und Agnostic-Front-Sänger Roger Miret.
 \nhttps://www.universum-stuttgart.de/events/madball-usa-special-guests/
URL:https://www.universum-stuttgart.de/events/madball-usa-special-guests/
END:VEVENT
END:VCALENDAR