BEGIN:VCALENDAR
VERSION:2.0
PRODID:-//eventon.com NONSGML v1.0//EN
CALSCALE:GREGORIAN
METHOD:PUBLISH
BEGIN:VEVENT
UID:69e737ee2f761
DTSTAMP:20260421T084014Z
DTSTART:20171002T230000Z
DTEND:20171002T235000Z
LOCATION:Universum Stuttgart Charlottenplatz 1\,  70173 Stuttgart
SUMMARY:IRIE SUNDAY  *Unity Days Club Special*
DESCRIPTION:Line Up tba\nhttps://www.universum-stuttgart.de/events/irie-sun
 day-club-special/
URL:https://www.universum-stuttgart.de/events/irie-sunday-club-special/
END:VEVENT
END:VCALENDAR